BEGIN:VCALENDAR
VERSION:2.0
PRODID:https://www.nefesch-vokalensemble.de
BEGIN:VTIMEZONE
TZID:Europe/Berlin
BEGIN:DAYLIGHT
TZOFFSETFROM:+0100
RRULE:FREQ=YEARLY;BYMONTH=3;BYDAY=-1SU
DTSTART:19810329T020000
TZNAME:CEST
TZOFFSETTO:+0200
END:DAYLIGHT
BEGIN:STANDARD
TZOFFSETFROM:+0200
RRULE:FREQ=YEARLY;BYMONTH=10;BYDAY=-1SU
DTSTART:19961027T030000
TZNAME:CET
TZOFFSETTO:+0100
END:STANDARD
END:VTIMEZONE
BEGIN:VEVENT
SUMMARY:Warum
LOCATION:Basilika St. Margareta\, Gerricusstraße 9\, 40625 Düsseldorf (Ge
 rresheim)
DESCRIPTION:Konzert des Nefesch-Vokalensemble mit Werken von Johannes Bra
 hms\, Christopher LaRosa\, Francis Poulenc\, John Taverner\, Hilary Campb
 ell\, Rudolf Mauersberger\, John Griffith\, Maurice Ravel\, und Cyrillus 
 Kreek. \n\n
DTSTART;TZID=Europe/Berlin:20260530T200000
DTEND;TZID=Europe/Berlin:20260530T213000
TRANSP:OPAQUE
URL:https://www.nefesch-vokalensemble.de/konzerte
DTSTAMP:20260206T171626Z
SEQUENCE:2
UID:20260206181626@nefesch-vokalensemble.de
END:VEVENT
END:VCALENDAR
